BEGIN:VCALENDAR
VERSION:2.0
PRODID:-//Pinellas County Gator Club - ECPv6.15.13.1//NONSGML v1.0//EN
CALSCALE:GREGORIAN
METHOD:PUBLISH
X-ORIGINAL-URL:https://pinellascountygatorclub.org
X-WR-CALDESC:Events for Pinellas County Gator Club
REFRESH-INTERVAL;VALUE=DURATION:PT1H
X-Robots-Tag:noindex
X-PUBLISHED-TTL:PT1H
BEGIN:VTIMEZONE
TZID:America/New_York
BEGIN:DAYLIGHT
TZOFFSETFROM:-0500
TZOFFSETTO:-0400
TZNAME:EDT
DTSTART:20250309T070000
END:DAYLIGHT
BEGIN:STANDARD
TZOFFSETFROM:-0400
TZOFFSETTO:-0500
TZNAME:EST
DTSTART:20251102T060000
END:STANDARD
BEGIN:DAYLIGHT
TZOFFSETFROM:-0500
TZOFFSETTO:-0400
TZNAME:EDT
DTSTART:20260308T070000
END:DAYLIGHT
BEGIN:STANDARD
TZOFFSETFROM:-0400
TZOFFSETTO:-0500
TZNAME:EST
DTSTART:20261101T060000
END:STANDARD
BEGIN:DAYLIGHT
TZOFFSETFROM:-0500
TZOFFSETTO:-0400
TZNAME:EDT
DTSTART:20270314T070000
END:DAYLIGHT
BEGIN:STANDARD
TZOFFSETFROM:-0400
TZOFFSETTO:-0500
TZNAME:EST
DTSTART:20271107T060000
END:STANDARD
END:VTIMEZONE
BEGIN:VEVENT
DTSTART;TZID=America/New_York:20260502T193000
DTEND;TZID=America/New_York:20260502T213000
DTSTAMP:20260423T143058
CREATED:20260315T155147Z
LAST-MODIFIED:20260315T155147Z
UID:977-1777750200-1777757400@pinellascountygatorclub.org
SUMMARY:Gator Alumni Night with the Rowdies
DESCRIPTION:We are so excited to announce this year’s partnership with the Tampa Bay Rowdies\nCome join us for Gator Almuni Night on Saturday\, May 2nd at 7:30pm. Fireworks to follow the game! It’s time to get up and holler for the Rowdies!!!!\nScan the QR or click the tickets link to tickets. A portion of each ticket goes back to our PCGC Scholarship fund!
URL:https://pinellascountygatorclub.org/event/gator-alumni-night-with-the-rowdies/
LOCATION:Al Lang Stadium\, 230 1st St SE\, St. Petersburg\, FL\, 33701\, United States
END:VEVENT
BEGIN:VEVENT
DTSTART;TZID=America/New_York:20260516T090000
DTEND;TZID=America/New_York:20260516T120000
DTSTAMP:20260423T143058
CREATED:20260421T142049Z
LAST-MODIFIED:20260421T142100Z
UID:1006-1778922000-1778932800@pinellascountygatorclub.org
SUMMARY:International Gator Day Beach Clean Up
DESCRIPTION:Back by popular demand- this year’s International Gator Day service is a Beach Clean Up with our partners at Keep Pinellas Beautiful! \n\n\n\n\nJOIN PCGC AND KEEP PINELLAS BEAUTIFUL FOR AN INTERNATONAL GATOR DAY BEACH CLEAN UP ON SATURDAY\, MAY 16TH AT 9:00AM. TICKETS AND DETAILS ON THE EVENTBRITE LINK! \nWHERE TO MEET: We will meet at South Gandy Beach\, east of The Getaway about halfway down the beach (See map below). Look for the Keep Pinellas Beautiful direction signs\, table\, and tent. (GPS Coordinates: 27.873630\, -82.602535. Please disregard the Eventbrite map above) \nTIME: Cleanup will begin at 9:00 am. Please arrive a few minutes early to sign in. \nWHAT TO WEAR: Volunteers should wear closed toe shoes such as boots or sneakers\, sun protection\, and weather appropriate clothing. \nWHAT TO EXPECT: Cleanup supplies will be provided by KPB. Drinks\, snacks\, and Gator gifts will be provided to attendees by UFAA and PCGC. \nPARKING: Free parking is available along the shoreline and grass.
URL:https://pinellascountygatorclub.org/event/international-gator-day-beach-clean-up/
LOCATION:South Gandy Beach\, 13090 Gandy Blvd N\, St. Petersburg\, FL\, 33702\, United States
END:VEVENT
END:VCALENDAR