BEGIN:VCALENDAR
VERSION:2.0
PRODID:-//Pinellas County Gator Club - ECPv6.15.13.1//NONSGML v1.0//EN
CALSCALE:GREGORIAN
METHOD:PUBLISH
X-WR-CALNAME:Pinellas County Gator Club
X-ORIGINAL-URL:https://pinellascountygatorclub.org
X-WR-CALDESC:Events for Pinellas County Gator Club
REFRESH-INTERVAL;VALUE=DURATION:PT1H
X-Robots-Tag:noindex
X-PUBLISHED-TTL:PT1H
BEGIN:VTIMEZONE
TZID:America/New_York
BEGIN:DAYLIGHT
TZOFFSETFROM:-0500
TZOFFSETTO:-0400
TZNAME:EDT
DTSTART:20250309T070000
END:DAYLIGHT
BEGIN:STANDARD
TZOFFSETFROM:-0400
TZOFFSETTO:-0500
TZNAME:EST
DTSTART:20251102T060000
END:STANDARD
BEGIN:DAYLIGHT
TZOFFSETFROM:-0500
TZOFFSETTO:-0400
TZNAME:EDT
DTSTART:20260308T070000
END:DAYLIGHT
BEGIN:STANDARD
TZOFFSETFROM:-0400
TZOFFSETTO:-0500
TZNAME:EST
DTSTART:20261101T060000
END:STANDARD
BEGIN:DAYLIGHT
TZOFFSETFROM:-0500
TZOFFSETTO:-0400
TZNAME:EDT
DTSTART:20270314T070000
END:DAYLIGHT
BEGIN:STANDARD
TZOFFSETFROM:-0400
TZOFFSETTO:-0500
TZNAME:EST
DTSTART:20271107T060000
END:STANDARD
END:VTIMEZONE
BEGIN:VEVENT
DTSTART;TZID=America/New_York:20260205T180000
DTEND;TZID=America/New_York:20260205T200000
DTSTAMP:20260423T144952
CREATED:20260115T173019Z
LAST-MODIFIED:20260115T173034Z
UID:966-1770314400-1770321600@pinellascountygatorclub.org
SUMMARY:February Networking Event at Green Bench Brewery
DESCRIPTION:We are so excited to announce our bi-monthly Gator Hour networking event for Thursday\, February 5th at Green Bench Brewing Co. from 6:00-8:00pm. \nGreen Bench is one of Pinellas County’s top breweries and owned by a Gator Alumni. This is a great casual way to network\, meet other Gators\, and interact with our board members. As always\, our events are open to the public\, so bring a friend! This is a free event. Attendees will be able to purchase and enjoy craft beers\, seltzers\, wines\, plus non-alcoholic options. \nGreen Bench Brewing Co. 1133 Baum Avenue\, St. Pete\, FL
URL:https://pinellascountygatorclub.org/event/february-networking-event-at-green-bench-brewery/
LOCATION:Green Bench Brewery\, 1133 Baum Ave\, St. Petersburg\, FL\, United States
END:VEVENT
END:VCALENDAR