BEGIN:VCALENDAR
VERSION:2.0
PRODID:-//Pinellas County Gator Club - ECPv6.15.13.1//NONSGML v1.0//EN
CALSCALE:GREGORIAN
METHOD:PUBLISH
X-WR-CALNAME:Pinellas County Gator Club
X-ORIGINAL-URL:https://pinellascountygatorclub.org
X-WR-CALDESC:Events for Pinellas County Gator Club
REFRESH-INTERVAL;VALUE=DURATION:PT1H
X-Robots-Tag:noindex
X-PUBLISHED-TTL:PT1H
BEGIN:VTIMEZONE
TZID:America/New_York
BEGIN:DAYLIGHT
TZOFFSETFROM:-0500
TZOFFSETTO:-0400
TZNAME:EDT
DTSTART:20240310T070000
END:DAYLIGHT
BEGIN:STANDARD
TZOFFSETFROM:-0400
TZOFFSETTO:-0500
TZNAME:EST
DTSTART:20241103T060000
END:STANDARD
BEGIN:DAYLIGHT
TZOFFSETFROM:-0500
TZOFFSETTO:-0400
TZNAME:EDT
DTSTART:20250309T070000
END:DAYLIGHT
BEGIN:STANDARD
TZOFFSETFROM:-0400
TZOFFSETTO:-0500
TZNAME:EST
DTSTART:20251102T060000
END:STANDARD
BEGIN:DAYLIGHT
TZOFFSETFROM:-0500
TZOFFSETTO:-0400
TZNAME:EDT
DTSTART:20260308T070000
END:DAYLIGHT
BEGIN:STANDARD
TZOFFSETFROM:-0400
TZOFFSETTO:-0500
TZNAME:EST
DTSTART:20261101T060000
END:STANDARD
BEGIN:DAYLIGHT
TZOFFSETFROM:-0500
TZOFFSETTO:-0400
TZNAME:EDT
DTSTART:20270314T070000
END:DAYLIGHT
BEGIN:STANDARD
TZOFFSETFROM:-0400
TZOFFSETTO:-0500
TZNAME:EST
DTSTART:20271107T060000
END:STANDARD
END:VTIMEZONE
BEGIN:VEVENT
DTSTART;TZID=America/New_York:20260129T190000
DTEND;TZID=America/New_York:20260129T220000
DTSTAMP:20260423T180058
CREATED:20260106T231046Z
LAST-MODIFIED:20260106T231101Z
UID:960-1769713200-1769724000@pinellascountygatorclub.org
SUMMARY:Gator Alumni Night with the Tampa Bay Lightning
DESCRIPTION:Join us and the Tampa Gator Club as we celebrate another year of Lightning hockey and Florida Gator partnership! Tickets are on sale now- January 29th at 7pm!Ticket includes a Lightning x Gator Club puck and a portion of every purchase goes to benefit our PCGC Scholarship fund!Go Gators and Go Bolts!
URL:https://pinellascountygatorclub.org/event/gator-alumni-night-with-the-tampa-bay-lightning/
LOCATION:Benchmark International Arena\, Tampa\, FL\, United States
ORGANIZER;CN="Pinellas County Gator Club":MAILTO:pcgatorclub@gmail.com
END:VEVENT
BEGIN:VEVENT
DTSTART;TZID=America/New_York:20251207T130000
DTEND;TZID=America/New_York:20251207T160000
DTSTAMP:20260423T180058
CREATED:20250809T184737Z
LAST-MODIFIED:20250809T184737Z
UID:870-1765112400-1765123200@pinellascountygatorclub.org
SUMMARY:Gator Day at the Bucs
DESCRIPTION:
URL:https://pinellascountygatorclub.org/event/gator-day-at-the-bucs/
LOCATION:Raymond James Stadium\, Tampa\, FL
ORGANIZER;CN="Pinellas County Gator Club":MAILTO:pcgatorclub@gmail.com
END:VEVENT
BEGIN:VEVENT
DTSTART;TZID=America/New_York:20251101T153000
DTEND;TZID=America/New_York:20251101T183000
DTSTAMP:20260423T180058
CREATED:20251014T155954Z
LAST-MODIFIED:20251014T155954Z
UID:928-1762011000-1762021800@pinellascountygatorclub.org
SUMMARY:Paws & Claws: Dog Adoption Event
DESCRIPTION:Come for the Game – Go Home with a Doggo!\n\n\n\nTo celebrate a victory over the Georgia Bulldogs\, the Pinellas County Gator Club\, in partnership with Skyway Dachshund Rescue\, Protecting Paws for Life\, Pinellas County Animal Services\, and other local animal rescue groups\, is hosting a special Dog Adoption Event during the Florida–Georgia football game!\n\n\nJoin us for great football\, Gator spirit\, and the chance to meet your new best friend!\n\n\n\nCall Pam H 727-455-0589 if you have any questions or would like to participate as a Rescue.
URL:https://pinellascountygatorclub.org/event/paws-claws-dog-adoption-event/
LOCATION:Mutts & Martinis\, St. Petersburg\, FL
END:VEVENT
BEGIN:VEVENT
DTSTART;TZID=America/New_York:20251022T183000
DTEND;TZID=America/New_York:20251022T213000
DTSTAMP:20260423T180058
CREATED:20250923T161002Z
LAST-MODIFIED:20250923T161002Z
UID:897-1761157800-1761168600@pinellascountygatorclub.org
SUMMARY:Indoor Golf and Networking Event
DESCRIPTION:Come join us at The Iron’s Club for a networking event unlike any other! \nThe Irons Club is a new concept that combines the best-in-class indoor golf technology with a lively social environment\, making us the perfect spot for golfers\, sports watchers\, food lovers\, and anyone looking for a unique way to unwind and connect with others. \nPinellas County Gator Club is thrilled to partner with The Iron’s Club for a networking event unlike any other! A ticket for $20 will get you indoor golfing time on a state of the art simulator plus a free drink ticket. Get a chance to mingle and meet other Gators while perfecting you golf swing in reserved bays. Attendees are also able to chat in their bar area\, sports book area\, outdoor space\, and enjoy all The Iron’s Club has to offer. A chef designed menu of delicious food will also be available to order.
URL:https://pinellascountygatorclub.org/event/indoor-golf-and-networking-event/
LOCATION:The Iron’s Club\, 2140 Central Ave\, St. Petersburg\, FL\, 33712\, United States
ORGANIZER;CN="Pinellas County Gator Club":MAILTO:pcgatorclub@gmail.com
END:VEVENT
BEGIN:VEVENT
DTSTART;TZID=America/New_York:20250830T170000
DTEND;TZID=America/New_York:20250830T230000
DTSTAMP:20260423T180058
CREATED:20250809T185040Z
LAST-MODIFIED:20250809T185040Z
UID:878-1756573200-1756594800@pinellascountygatorclub.org
SUMMARY:Official Football Watch Parties at Mutts & Martinis
DESCRIPTION:
URL:https://pinellascountygatorclub.org/event/official-football-watch-parties-at-mutts-martinis/
LOCATION:Mutts & Martinis\, St. Petersburg\, FL
ORGANIZER;CN="Pinellas County Gator Club":MAILTO:pcgatorclub@gmail.com
END:VEVENT
BEGIN:VEVENT
DTSTART;TZID=America/New_York:20250824T120000
DTEND;TZID=America/New_York:20250824T150000
DTSTAMP:20260423T180058
CREATED:20250809T184850Z
LAST-MODIFIED:20250809T184850Z
UID:874-1756036800-1756047600@pinellascountygatorclub.org
SUMMARY:Gator Day with the Rays
DESCRIPTION:
URL:https://pinellascountygatorclub.org/event/gator-day-with-the-rays/
LOCATION:Steinbrenner Field\, Tampa\, FL
ORGANIZER;CN="Pinellas County Gator Club":MAILTO:pcgatorclub@gmail.com
END:VEVENT
BEGIN:VEVENT
DTSTART;TZID=America/New_York:20250821T183000
DTEND;TZID=America/New_York:20250821T193000
DTSTAMP:20260423T180058
CREATED:20250809T180800Z
LAST-MODIFIED:20250809T180800Z
UID:853-1755801000-1755804600@pinellascountygatorclub.org
SUMMARY:AI for Business Webinar
DESCRIPTION:
URL:https://pinellascountygatorclub.org/event/ai-for-business-webinar/
LOCATION:Webinar
ORGANIZER;CN="Pinellas County Gator Club":MAILTO:pcgatorclub@gmail.com
END:VEVENT
END:VCALENDAR